BEGIN:VCALENDAR
VERSION:2.0
PRODID:-//Rudolf-Steiner-Schule Dortmund - ECPv6.15.15//NONSGML v1.0//EN
CALSCALE:GREGORIAN
METHOD:PUBLISH
X-ORIGINAL-URL:https://www.rudolf-steiner-schule-dortmund.de
X-WR-CALDESC:Veranstaltungen für Rudolf-Steiner-Schule Dortmund
REFRESH-INTERVAL;VALUE=DURATION:PT1H
X-Robots-Tag:noindex
X-PUBLISHED-TTL:PT1H
BEGIN:VTIMEZONE
TZID:Europe/Berlin
BEGIN:DAYLIGHT
TZOFFSETFROM:+0100
TZOFFSETTO:+0200
TZNAME:CEST
DTSTART:20220327T010000
END:DAYLIGHT
BEGIN:STANDARD
TZOFFSETFROM:+0200
TZOFFSETTO:+0100
TZNAME:CET
DTSTART:20221030T010000
END:STANDARD
BEGIN:DAYLIGHT
TZOFFSETFROM:+0100
TZOFFSETTO:+0200
TZNAME:CEST
DTSTART:20230326T010000
END:DAYLIGHT
BEGIN:STANDARD
TZOFFSETFROM:+0200
TZOFFSETTO:+0100
TZNAME:CET
DTSTART:20231029T010000
END:STANDARD
BEGIN:DAYLIGHT
TZOFFSETFROM:+0100
TZOFFSETTO:+0200
TZNAME:CEST
DTSTART:20240331T010000
END:DAYLIGHT
BEGIN:STANDARD
TZOFFSETFROM:+0200
TZOFFSETTO:+0100
TZNAME:CET
DTSTART:20241027T010000
END:STANDARD
BEGIN:DAYLIGHT
TZOFFSETFROM:+0100
TZOFFSETTO:+0200
TZNAME:CEST
DTSTART:20250330T010000
END:DAYLIGHT
BEGIN:STANDARD
TZOFFSETFROM:+0200
TZOFFSETTO:+0100
TZNAME:CET
DTSTART:20251026T010000
END:STANDARD
END:VTIMEZONE
BEGIN:VEVENT
DTSTART;VALUE=DATE:20231221
DTEND;VALUE=DATE:20240106
DTSTAMP:20260421T180040
CREATED:20230428T093927Z
LAST-MODIFIED:20231215T175631Z
UID:6524-1703116800-1704499199@www.rudolf-steiner-schule-dortmund.de
SUMMARY:Weihnachtsferien
DESCRIPTION:Weihnachtsferien NRW vom 21. Dezember 2023 bis 5. Januar 2024\n\n\n\n  \nDie Botschaft von Weihnachten: \nEs gibt keine größere Kraft als die Liebe. \nSie überwindet den Hass wie das Licht die Finsternis. \n(Martin Luther King) \n  \nLiebe Schulgemeinschaft\,\nEltern\, Schülerinnen und Schüler\, Lehrerinnen und Lehrer\, Mitarbeitende\, Ehemalige\, Freunde unserer Schule\, \nwir möchten die bevorstehende Weihnachtszeit und das Jahresende nutzen\, um innezuhalten und allen Menschen\,\ndie sich in diesem Jahr auf verschiedenste Art und Weise für unsere Schule engagiert haben\,\ndie unsere Arbeit durch ihr Vertrauen wertgeschätzt haben\,\ndie uns mit guten Gedanken begleitet haben\,\nvon Herzen besinnliche Weihnachtsfeiertage und alles Gute für ein gesundes und glückliches neues Jahr zu wünschen. \nFür Ihre Unterstützung\, die gute Zusammenarbeit und das konstruktive Miteinander im vergangenen Jahr möchten wir uns ausdrücklich bedanken. \nUnd ganz besonders danken möchten wir Emma K.\, Schülerin einer unserer 10. Klassen\, für das tolle Motiv unserer diesjährigen Weihnachtskarte sowie Daria T.\, unserer langjährig verbundenen Grafikerin\, für die finale Bildbearbeitung und Druckvorbereitung. \nBitte haben Sie Verständnis\, dass die Schule (inkl. Verwaltung\, OGS und Schulküche) in den Weihnachtsferien geschlossen ist! \nAb Montag\, 8. Januar 2024 sind alle wieder erholt und tatkräftig für Sie da! \nHerzlichst\, \nUte Baumeister | Andrea Küpper | Inga Meyer-Marcotty | Stefanie Podgornik | Antje Salzmann | Astrid Skroblin | Michael Treier | Ute Wachs\nVorstand der Rudolf-Steiner-Schule Dortmund e. V. \n 
URL:https://www.rudolf-steiner-schule-dortmund.de/veranstaltungen/weihnachtsferien/
CATEGORIES:Ferien,Interne Termine
END:VEVENT
BEGIN:VEVENT
DTSTART;TZID=Europe/Berlin:20240108T193000
DTEND;TZID=Europe/Berlin:20240108T213000
DTSTAMP:20260421T180040
CREATED:20231215T173223Z
LAST-MODIFIED:20231221T125302Z
UID:7300-1704742200-1704749400@www.rudolf-steiner-schule-dortmund.de
SUMMARY:Vortrag "Bildungsziel Medienmündigkeit" | Prof. Dr. E. Hübner
DESCRIPTION:  \nWir freuen uns\, dass es uns kurzfristig gelungen ist\, Herrn Prof. Dr. Edwin Hübner\, Professor für Medienpädagogik an der Freien Hochschule Stuttgart und Autor mehrerer Bücher zu diesem Thema\, zu uns einzuladen. \nEdwin Hübner\, geboren 1955\, studierte Mathematik und Physik in Frankfurt/Main und Stuttgart. Von 1985 bis 2015 war er Lehrer an der Freien Waldorfschule Frankfurt/Main. Er promovierte über anthropologische Medienpädagogik und habilitierte sich zum Thema »Individualität und Bildungskunst«. Derzeit hat er den von-Tessin-Lehrstuhl für Medienpädagogik an der Freien Hochschule Stuttgart – Seminar für Waldorfpädagogik inne. \nSehr herzlich möchten wir zum öffentlichen Vortrag mit anschließender Gesprächsrunde am Montag\, 8. Januar 2024\, um 19.30 Uhr in unseren Roten Saal einladen:\n \n„Bildungsziel Medienmündigkeit\nGesund aufwachsen inmitten der digitalen Welt\nSelbstbestimmt mit Medien umgehen ist eine im digitalen Alltag notwendige Fähigkeit. Sie entwickelt sich nicht von alleine durch den Umgang mit Medien. Der Vortrag blickt auf die Voraussetzungen der Medienmündigkeit und wie Kinder und Jugendliche im Laufe ihrer Entwicklung von Elternhaus und Schule unterstützt werden können\, einen gesunden Umgang mit Medien zu erlernen.“ \nDer Eintritt ist frei.
URL:https://www.rudolf-steiner-schule-dortmund.de/veranstaltungen/vortrag-bildungsziel-medienmuendigkeit-prof-dr-e-huebner/
LOCATION:Westbau – Rudolf-Steiner-Schule Dortmund\, Mergelteichstraße 51\, Dortmund-Brünninghausen\, 44225\, Deutschland
CATEGORIES:Öffentlich Veranstaltung
END:VEVENT
BEGIN:VEVENT
DTSTART;TZID=Europe/Berlin:20240112T160000
DTEND;TZID=Europe/Berlin:20240112T170000
DTSTAMP:20260421T180040
CREATED:20231201T143457Z
LAST-MODIFIED:20231201T143740Z
UID:7280-1705075200-1705078800@www.rudolf-steiner-schule-dortmund.de
SUMMARY:Dreikönigsspiel
DESCRIPTION:  \nDas letzte Spiel der Trilogie der Oberuferer Weihnachtsspiele\, das Dreikönigsspiel\, findet statt am 12. Januar 2024 um 16 Uhr im Roten Saal. \nErzählt wird die Geschichte der drei Könige Melchior\, Caspar und Balthasar\, welche durch den Stern von Bethlehem auf die Geburt Christi (dem neuen König) aufmerksam gemacht wurden und sich auf den Weg machen ihn zu suchen und ihm zu huldigen. \nDie Kompanie freut sich auf viele Besucher:innen. \nDer Eintritt ist frei.
URL:https://www.rudolf-steiner-schule-dortmund.de/veranstaltungen/dreikoenigsspiel-4/
LOCATION:Roter Saal\, Mergelteichstraße 51\, Dortmund-Brünninghausen\, NRW\, 44225\, Deutschland
CATEGORIES:Öffentlich Veranstaltung
END:VEVENT
BEGIN:VEVENT
DTSTART;VALUE=DATE:20240126
DTEND;VALUE=DATE:20240127
DTSTAMP:20260421T180040
CREATED:20230710T153108Z
LAST-MODIFIED:20240122T105624Z
UID:6722-1706227200-1706313599@www.rudolf-steiner-schule-dortmund.de
SUMMARY:Elternsprechtag 2024
DESCRIPTION:  \nHeute ist Elternsprechtag und daher unterrichtsfrei. \nDas Sekretariat ist geöffnet\, sollte es Fragen o. ä. geben. \nBitte denken Sie daran\, dass alle Kinder\, die an diesen Tagen in der Schatzinsel betreut werden und im Schülerspeisesaal essen gehen\, ihr Essen wie gewohnt über das Inet-Menue bestellen müssen.
URL:https://www.rudolf-steiner-schule-dortmund.de/veranstaltungen/elternsprechtag-2024/
LOCATION:Rudolf-Steiner-Schule Dortmund\, Mergelteichstraße 51\, Dortmund-Brünninghausen\, 44225\, Deutschland
CATEGORIES:Interne Termine
END:VEVENT
END:VCALENDAR