BEGIN:VCALENDAR
VERSION:2.0
PRODID:-//Rudolf-Steiner-Schule Dortmund - ECPv6.15.15//NONSGML v1.0//EN
CALSCALE:GREGORIAN
METHOD:PUBLISH
X-ORIGINAL-URL:https://www.rudolf-steiner-schule-dortmund.de
X-WR-CALDESC:Veranstaltungen für Rudolf-Steiner-Schule Dortmund
REFRESH-INTERVAL;VALUE=DURATION:PT1H
X-Robots-Tag:noindex
X-PUBLISHED-TTL:PT1H
BEGIN:VTIMEZONE
TZID:Europe/Berlin
BEGIN:DAYLIGHT
TZOFFSETFROM:+0100
TZOFFSETTO:+0200
TZNAME:CEST
DTSTART:20230326T010000
END:DAYLIGHT
BEGIN:STANDARD
TZOFFSETFROM:+0200
TZOFFSETTO:+0100
TZNAME:CET
DTSTART:20231029T010000
END:STANDARD
BEGIN:DAYLIGHT
TZOFFSETFROM:+0100
TZOFFSETTO:+0200
TZNAME:CEST
DTSTART:20240331T010000
END:DAYLIGHT
BEGIN:STANDARD
TZOFFSETFROM:+0200
TZOFFSETTO:+0100
TZNAME:CET
DTSTART:20241027T010000
END:STANDARD
BEGIN:DAYLIGHT
TZOFFSETFROM:+0100
TZOFFSETTO:+0200
TZNAME:CEST
DTSTART:20250330T010000
END:DAYLIGHT
BEGIN:STANDARD
TZOFFSETFROM:+0200
TZOFFSETTO:+0100
TZNAME:CET
DTSTART:20251026T010000
END:STANDARD
END:VTIMEZONE
BEGIN:VEVENT
DTSTART;TZID=Europe/Berlin:20240201T173000
DTEND;TZID=Europe/Berlin:20240201T190000
DTSTAMP:20260421T162331
CREATED:20231027T080210Z
LAST-MODIFIED:20231215T175046Z
UID:7189-1706808600-1706814000@www.rudolf-steiner-schule-dortmund.de
SUMMARY:Schulbesichtigung
DESCRIPTION:Blick hinter die Kulissen einer Waldorfschule\n  \nam Donnerstag\, 1. Februar 2024\, 17.30 Uhr – ca. 19 Uhr \nAlle Interessierten sind herzlich willkommen! \n \nWir zeigen Ihnen in zwangloser Atmosphäre die Schulgebäude und Klassenräume von Klasse 1 bis 13 und informieren über die Waldorfpädagogik und unsere schuleigenen Angebote. Dazu gehören sowohl Werkstätten\, der Schulgarten\, die Schulküche und der Schülerspeisesaal\, das bewegte Klassenzimmer als auch die Offene Ganztagsschule (OGS). \nAngesprochen sind alle Interessierten\, Eltern von Schulanfängern genauso wie Eltern von Schulwechslern und Schüler:innen\, die wissen wollen\, wie eine Waldorfschule organisiert ist und welche Abschlüsse möglich sind. \nTreffpunkt: Haupteingang Westbau (am Ende der Mergelteichstraße rechts auf den Schulhof) \nBitte parken Sie kostenfrei auf dem Parkplatz des Zoos\, wenn Sie uns besuchen. Vielen Dank für Ihr Verständnis. \nWir freuen uns über Ihr Interesse an unserer Schule und auf Ihren Besuch! \n  \nSollten Sie Fragen zur Aufnahme haben\, wenden Sie sich gerne an unser Aufnahmesekretariat unter aufnahmekreis(at)rss-do.de oder telefonisch während der Öffnungszeiten montags bis freitags von 9 – 12 Uhr unter 0231 – 47 64 80 11.
URL:https://www.rudolf-steiner-schule-dortmund.de/veranstaltungen/schulbesichtigung-9/
LOCATION:Rudolf-Steiner-Schule Dortmund\, Mergelteichstraße 51\, Dortmund-Brünninghausen\, 44225\, Deutschland
CATEGORIES:Öffentlich Veranstaltung,Schulbesichtigung
END:VEVENT
BEGIN:VEVENT
DTSTART;VALUE=DATE:20240212
DTEND;VALUE=DATE:20240217
DTSTAMP:20260421T162331
CREATED:20230517T171754Z
LAST-MODIFIED:20240205T091101Z
UID:6616-1707696000-1708127999@www.rudolf-steiner-schule-dortmund.de
SUMMARY:Faschingsferien 2024
DESCRIPTION:Unterrichtsfrei vom 12. – 16. Februar 2024\n  \nWir wünschen allen kunterbunte\, närrische Tage! \nDie Verwaltung und die Schatzinsel sind am Rosenmontag\, 12. Februar 2024\, geschlossen. \nVon Dienstag\, 13. – Freitag\, 16. Februar 2024 gibt es eine Ferienbetreuung in der Schatzinsel. \nWenn Sie unsere Schulverwaltung erreichen möchten\, schreiben Sie in der schulfreien Woche am besten eine Mail. Unsere Mitarbeiterinnen melden sich so schnell wie möglich zurück: \nschulsekretariat(at)rss-do.de (für allgemeine Anfragen) \naufnahmekreis(at)rss-do.de (für alle Anliegen rund um die Aufnahme von Schüler:innen) \n 
URL:https://www.rudolf-steiner-schule-dortmund.de/veranstaltungen/faschingsferien-2024/
CATEGORIES:Ferien,Interne Termine
END:VEVENT
BEGIN:VEVENT
DTSTART;TZID=Europe/Berlin:20240223T140000
DTEND;TZID=Europe/Berlin:20240225T130000
DTSTAMP:20260421T162331
CREATED:20230920T153705Z
LAST-MODIFIED:20240122T102318Z
UID:7086-1708696800-1708866000@www.rudolf-steiner-schule-dortmund.de
SUMMARY:Bundeselternratstagung (BERT)
DESCRIPTION:Wir freuen uns\, dass die 91. Bundeselternratstagung (BERT) 2024 mit vielen Vorträgen\, Workshops und interessanten Gesprächen bei uns stattfindet. \nWaldorf verbindet: Die 91. BERT für alle.\nInspirationen\, Informationen & viel Wir-Gefühl \nUnter Bundeselternratstagung.de ist die Anmeldung zur BERT 2024 möglich. Wir freuen uns sehr\, Euch ein buntes Programm mit vielen tollen Dozenten anbieten zu können! Hier\, in unserem Padlet (bitte anklicken) könnt Ihr schon einmal stöbern gehen\, es lohnt sich! \nFür BERT-„Neulinge“: Eingeladen sind ALLE Eltern (auch ohne Elternratsamt)\, Elternvertreter:innen\, Lehrer:innen\, Erzieher:innen und Schüler:innen sowie Vertreter:innen auf Landes- und Bundesebene. \nFür die\, die sich fragen: „Was war die BERT nochmal genau?“ oder „Kostet das eigentlich was?“ oder „Darf da nur der Elternrat hin?“ gibt es hier ein kurzes Video: \nwww.instagram.com/reel/C11uTHNt173/?igsh=MWFlZG8zMmtnendnZg==
URL:https://www.rudolf-steiner-schule-dortmund.de/veranstaltungen/bundeselternratstagung-bert/
LOCATION:Rudolf-Steiner-Schule Dortmund\, Mergelteichstraße 51\, Dortmund-Brünninghausen\, 44225\, Deutschland
CATEGORIES:Öffentlich Veranstaltung
ATTACH;FMTTYPE=image/jpeg:https://www.rudolf-steiner-schule-dortmund.de/wp-content/uploads/Waldorf-verbindet.jpg
END:VEVENT
END:VCALENDAR