BEGIN:VCALENDAR
VERSION:2.0
PRODID:-//Rudolf-Steiner-Schule Dortmund - ECPv6.15.15//NONSGML v1.0//EN
CALSCALE:GREGORIAN
METHOD:PUBLISH
X-WR-CALNAME:Rudolf-Steiner-Schule Dortmund
X-ORIGINAL-URL:https://www.rudolf-steiner-schule-dortmund.de
X-WR-CALDESC:Veranstaltungen für Rudolf-Steiner-Schule Dortmund
REFRESH-INTERVAL;VALUE=DURATION:PT1H
X-Robots-Tag:noindex
X-PUBLISHED-TTL:PT1H
BEGIN:VTIMEZONE
TZID:Europe/Berlin
BEGIN:DAYLIGHT
TZOFFSETFROM:+0100
TZOFFSETTO:+0200
TZNAME:CEST
DTSTART:20230326T010000
END:DAYLIGHT
BEGIN:STANDARD
TZOFFSETFROM:+0200
TZOFFSETTO:+0100
TZNAME:CET
DTSTART:20231029T010000
END:STANDARD
BEGIN:DAYLIGHT
TZOFFSETFROM:+0100
TZOFFSETTO:+0200
TZNAME:CEST
DTSTART:20240331T010000
END:DAYLIGHT
BEGIN:STANDARD
TZOFFSETFROM:+0200
TZOFFSETTO:+0100
TZNAME:CET
DTSTART:20241027T010000
END:STANDARD
BEGIN:DAYLIGHT
TZOFFSETFROM:+0100
TZOFFSETTO:+0200
TZNAME:CEST
DTSTART:20250330T010000
END:DAYLIGHT
BEGIN:STANDARD
TZOFFSETFROM:+0200
TZOFFSETTO:+0100
TZNAME:CET
DTSTART:20251026T010000
END:STANDARD
END:VTIMEZONE
BEGIN:VEVENT
DTSTART;TZID=Europe/Berlin:20240301T190000
DTEND;TZID=Europe/Berlin:20240301T220000
DTSTAMP:20260421T145008
CREATED:20230710T155437Z
LAST-MODIFIED:20240205T085544Z
UID:6735-1709319600-1709330400@www.rudolf-steiner-schule-dortmund.de
SUMMARY:Circus Saltarello Wintervarieté
DESCRIPTION:  \nHerzlich willkommen zum Zirkusprojekt von Georgschule und Rudolf-Steiner-Schule!\n  \nManege frei für das Wintervarieté „The Great Show“\nim Forum der Georgschule am  \nFreitag\, 1. März 2024\, um 19 Uhr \nSamstag\, 2. März 2024\, um 15 und um 19 Uhr und am \nSonntag\, 3. März 2024\, um 15 Uhr. \nDer Kartenvorverkauf startet am Montag\, 5. Februar\, in den Schulsekretariaten beider Schulen: Erwachsene € 10\,- | Kinder € 5\,- \n„The Great Show“ entführt Sie in die Welt des Varietés. Unsere Artistinnen und Artisten zeigen ihr Können auf Laufkugeln\, auf dem Seil und am Trapez und am Vertikaltuch. Es wird jongliert\, mit fast allem\, was sich in die Luft werfen lässt. Bodenakrobatik\, Tanz und Gesang wird sie in eine andere Welt entführen.\nAlles in einem Ambiente in dem Sie Snacks und Getränke genießen können.\nDas launige Hausmeisterehepaar Putzi und Dicki wird sie durch das Programm führen und mit einigem überraschen können.\n„The Great Show“ ist wieder eine Zusammenarbeit der Rudolf-Steiner-Schule und der Georgschule. In der durchlaufenden Zirkus AG mit großer Unterstützung von einigen Eltern und während zwei intensiver Zirkuswochenenden entstanden die artistischen Darbietungen für das Wintervarieté. Zur direkten Vorbereitung trafen sich weiter Eltern beider Schulen zu drei Elternabenden\, um die Dekoration\, das Essen und die Betreuung der Artistinnen und Artisten zu organisieren. Eine fantastische Zusammenarbeit\, ohne die ein solches Projekt nicht stattfinden kann. \nSchon an dieser Stelle einen herzlichen Dank an alle Beteiligten und viel Erfolg an alle Artistinnen und Artisten\, Künstlerinnen und Künstler. \nFür die Zirkus AG \nBruni Freund und Jo Müller\n(für beide Schulen)
URL:https://www.rudolf-steiner-schule-dortmund.de/veranstaltungen/circus-saltarello-wintervariete/
LOCATION:Georgschule\, Mergelteichstr. 63\, Dortmund\, 44225
CATEGORIES:Öffentlich Veranstaltung
ATTACH;FMTTYPE=image/png:https://www.rudolf-steiner-schule-dortmund.de/wp-content/uploads/Saltarello2024-Plakat.png
END:VEVENT
BEGIN:VEVENT
DTSTART;VALUE=DATE:20240302
DTEND;VALUE=DATE:20240303
DTSTAMP:20260421T145008
CREATED:20230710T154859Z
LAST-MODIFIED:20240205T091324Z
UID:6732-1709337600-1709423999@www.rudolf-steiner-schule-dortmund.de
SUMMARY:Willkommenstag 2024 | Teilnahme nur mit Einladung
DESCRIPTION:Einführungsveranstaltung für neue Eltern\n  \nAm Samstag\, 2. März 2024 laden wir alle neuen Eltern\, die eine Zusage für einen Schulplatz im Schuljahr 2024/25 bekommen haben\, zu einer Einführung in die Waldorfpädagogik und in den Lehrplan unserer Schule ein. \nErleben Sie mit unserem Kollegium\, Eltern und (ehemaligen) Schülern\, wie sich Lehrmethoden und Lerninhalte an den Entwicklungsphasen der Kinder und Jugendlichen orientieren. \nTeilnahme mit Einladung durch unseren Aufnahmekreis. \n 
URL:https://www.rudolf-steiner-schule-dortmund.de/veranstaltungen/willkommenstag-2024/
LOCATION:Rudolf-Steiner-Schule Dortmund\, Mergelteichstraße 51\, Dortmund-Brünninghausen\, 44225\, Deutschland
CATEGORIES:Interne Termine,Willkommenstag
END:VEVENT
BEGIN:VEVENT
DTSTART;TZID=Europe/Berlin:20240302T150000
DTEND;TZID=Europe/Berlin:20240302T180000
DTSTAMP:20260421T145008
CREATED:20240205T085717Z
LAST-MODIFIED:20240205T085717Z
UID:7408-1709391600-1709402400@www.rudolf-steiner-schule-dortmund.de
SUMMARY:Circus Saltarello Wintervarieté
DESCRIPTION:  \nHerzlich willkommen zum Zirkusprojekt von Georgschule und Rudolf-Steiner-Schule!\n  \nManege frei für das Wintervarieté „The Great Show“\nim Forum der Georgschule am  \nFreitag\, 1. März 2024\, um 19 Uhr \nSamstag\, 2. März 2024\, um 15 und um 19 Uhr und am \nSonntag\, 3. März 2024\, um 15 Uhr. \nDer Kartenvorverkauf startet am Montag\, 5. Februar\, in den Schulsekretariaten beider Schulen: Erwachsene € 10\,- | Kinder € 5\,- \n„The Great Show“ entführt Sie in die Welt des Varietés. Unsere Artistinnen und Artisten zeigen ihr Können auf Laufkugeln\, auf dem Seil und am Trapez und am Vertikaltuch. Es wird jongliert\, mit fast allem\, was sich in die Luft werfen lässt. Bodenakrobatik\, Tanz und Gesang wird sie in eine andere Welt entführen.\nAlles in einem Ambiente in dem Sie Snacks und Getränke genießen können.\nDas launige Hausmeisterehepaar Putzi und Dicki wird sie durch das Programm führen und mit einigem überraschen können.\n„The Great Show“ ist wieder eine Zusammenarbeit der Rudolf-Steiner-Schule und der Georgschule. In der durchlaufenden Zirkus AG mit großer Unterstützung von einigen Eltern und während zwei intensiver Zirkuswochenenden entstanden die artistischen Darbietungen für das Wintervarieté. Zur direkten Vorbereitung trafen sich weiter Eltern beider Schulen zu drei Elternabenden\, um die Dekoration\, das Essen und die Betreuung der Artistinnen und Artisten zu organisieren. Eine fantastische Zusammenarbeit\, ohne die ein solches Projekt nicht stattfinden kann. \nSchon an dieser Stelle einen herzlichen Dank an alle Beteiligten und viel Erfolg an alle Artistinnen und Artisten\, Künstlerinnen und Künstler. \nFür die Zirkus AG \nBruni Freund und Jo Müller\n(für beide Schulen)
URL:https://www.rudolf-steiner-schule-dortmund.de/veranstaltungen/circus-saltarello-wintervariete-2/
LOCATION:Georgschule\, Mergelteichstr. 63\, Dortmund\, 44225
CATEGORIES:Öffentlich Veranstaltung
ATTACH;FMTTYPE=image/png:https://www.rudolf-steiner-schule-dortmund.de/wp-content/uploads/Saltarello2024-Plakat.png
END:VEVENT
BEGIN:VEVENT
DTSTART;TZID=Europe/Berlin:20240302T190000
DTEND;TZID=Europe/Berlin:20240302T220000
DTSTAMP:20260421T145008
CREATED:20240205T085830Z
LAST-MODIFIED:20240205T085830Z
UID:7410-1709406000-1709416800@www.rudolf-steiner-schule-dortmund.de
SUMMARY:Circus Saltarello Wintervarieté
DESCRIPTION:  \nHerzlich willkommen zum Zirkusprojekt von Georgschule und Rudolf-Steiner-Schule!\n  \nManege frei für das Wintervarieté „The Great Show“\nim Forum der Georgschule am  \nFreitag\, 1. März 2024\, um 19 Uhr \nSamstag\, 2. März 2024\, um 15 und um 19 Uhr und am \nSonntag\, 3. März 2024\, um 15 Uhr. \nDer Kartenvorverkauf startet am Montag\, 5. Februar\, in den Schulsekretariaten beider Schulen: Erwachsene € 10\,- | Kinder € 5\,- \n„The Great Show“ entführt Sie in die Welt des Varietés. Unsere Artistinnen und Artisten zeigen ihr Können auf Laufkugeln\, auf dem Seil und am Trapez und am Vertikaltuch. Es wird jongliert\, mit fast allem\, was sich in die Luft werfen lässt. Bodenakrobatik\, Tanz und Gesang wird sie in eine andere Welt entführen.\nAlles in einem Ambiente in dem Sie Snacks und Getränke genießen können.\nDas launige Hausmeisterehepaar Putzi und Dicki wird sie durch das Programm führen und mit einigem überraschen können.\n„The Great Show“ ist wieder eine Zusammenarbeit der Rudolf-Steiner-Schule und der Georgschule. In der durchlaufenden Zirkus AG mit großer Unterstützung von einigen Eltern und während zwei intensiver Zirkuswochenenden entstanden die artistischen Darbietungen für das Wintervarieté. Zur direkten Vorbereitung trafen sich weiter Eltern beider Schulen zu drei Elternabenden\, um die Dekoration\, das Essen und die Betreuung der Artistinnen und Artisten zu organisieren. Eine fantastische Zusammenarbeit\, ohne die ein solches Projekt nicht stattfinden kann. \nSchon an dieser Stelle einen herzlichen Dank an alle Beteiligten und viel Erfolg an alle Artistinnen und Artisten\, Künstlerinnen und Künstler. \nFür die Zirkus AG \nBruni Freund und Jo Müller\n(für beide Schulen)
URL:https://www.rudolf-steiner-schule-dortmund.de/veranstaltungen/circus-saltarello-wintervariete-3/
LOCATION:Georgschule\, Mergelteichstr. 63\, Dortmund\, 44225
CATEGORIES:Öffentlich Veranstaltung
ATTACH;FMTTYPE=image/png:https://www.rudolf-steiner-schule-dortmund.de/wp-content/uploads/Saltarello2024-Plakat.png
END:VEVENT
BEGIN:VEVENT
DTSTART;TZID=Europe/Berlin:20240303T150000
DTEND;TZID=Europe/Berlin:20240303T180000
DTSTAMP:20260421T145008
CREATED:20240205T090019Z
LAST-MODIFIED:20240205T090020Z
UID:7412-1709478000-1709488800@www.rudolf-steiner-schule-dortmund.de
SUMMARY:Circus Saltarello Wintervarieté
DESCRIPTION:  \nHerzlich willkommen zum Zirkusprojekt von Georgschule und Rudolf-Steiner-Schule!\n  \nManege frei für das Wintervarieté „The Great Show“\nim Forum der Georgschule am  \nFreitag\, 1. März 2024\, um 19 Uhr \nSamstag\, 2. März 2024\, um 15 und um 19 Uhr und am \nSonntag\, 3. März 2024\, um 15 Uhr. \nDer Kartenvorverkauf startet am Montag\, 5. Februar\, in den Schulsekretariaten beider Schulen: Erwachsene € 10\,- | Kinder € 5\,- \n„The Great Show“ entführt Sie in die Welt des Varietés. Unsere Artistinnen und Artisten zeigen ihr Können auf Laufkugeln\, auf dem Seil und am Trapez und am Vertikaltuch. Es wird jongliert\, mit fast allem\, was sich in die Luft werfen lässt. Bodenakrobatik\, Tanz und Gesang wird sie in eine andere Welt entführen.\nAlles in einem Ambiente in dem Sie Snacks und Getränke genießen können.\nDas launige Hausmeisterehepaar Putzi und Dicki wird sie durch das Programm führen und mit einigem überraschen können.\n„The Great Show“ ist wieder eine Zusammenarbeit der Rudolf-Steiner-Schule und der Georgschule. In der durchlaufenden Zirkus AG mit großer Unterstützung von einigen Eltern und während zwei intensiver Zirkuswochenenden entstanden die artistischen Darbietungen für das Wintervarieté. Zur direkten Vorbereitung trafen sich weiter Eltern beider Schulen zu drei Elternabenden\, um die Dekoration\, das Essen und die Betreuung der Artistinnen und Artisten zu organisieren. Eine fantastische Zusammenarbeit\, ohne die ein solches Projekt nicht stattfinden kann. \nSchon an dieser Stelle einen herzlichen Dank an alle Beteiligten und viel Erfolg an alle Artistinnen und Artisten\, Künstlerinnen und Künstler. \nFür die Zirkus AG \nBruni Freund und Jo Müller\n(für beide Schulen)
URL:https://www.rudolf-steiner-schule-dortmund.de/veranstaltungen/circus-saltarello-wintervariete-4/
LOCATION:Georgschule\, Mergelteichstr. 63\, Dortmund\, 44225
CATEGORIES:Öffentlich Veranstaltung
ATTACH;FMTTYPE=image/png:https://www.rudolf-steiner-schule-dortmund.de/wp-content/uploads/Saltarello2024-Plakat.png
END:VEVENT
BEGIN:VEVENT
DTSTART;TZID=Europe/Berlin:20240315T193000
DTEND;TZID=Europe/Berlin:20240315T220000
DTSTAMP:20260421T145008
CREATED:20230710T152355Z
LAST-MODIFIED:20240311T094304Z
UID:6717-1710531000-1710540000@www.rudolf-steiner-schule-dortmund.de
SUMMARY:"Das Haus in Montevideo" - Theaterspiel der Klasse 8a
DESCRIPTION:Die Klasse 8a spielt „Das Haus in Montevideo“\, eine Komödie von Curt Goetz bei der es um Moral\, Pflichterfüllung\, Disziplin und Liebe geht. \nZum Inhalt: Der konservative Familienvater Professor Traugott Hermann Nägler hat eine 13-köpfige Familie. Seine älteste Tochter Atlanta erbt ein Haus in Montevideo von der verstoßenen Schwester des Professors. Zudem bekommt ein Familienmitglied der Näglers\, eine beträchtliche Geldsumme. Dies ist mit einer Bedingung verbunden: Es muss ein weiteres uneheliches Kind in der Familie der Näglers geboren werden. \nDies ist ein Skandal für den konservativen Professor. Atlanta überredet ihn zu einer Reise nach Montevideo\, um das Erbe anzutreten und von einem Anwalt die Bedingungen des Erbes zu erfahren. Dort ist er in einem Zwiespalt\, ob Herr Nägler nun die Tugend seiner Tochter opfern solle. Atlanta hat einen hartnäckigen Verehrer\, Herbert Kraft\, welcher ihnen nach Montevideo gefolgt ist und Atlanta heiraten will. \nDieser kommt dem Professor recht gelegen und er versucht mit Metaphern die Intensivierung seiner Bemühungen bei Atlanta nahezulegen. Doch der junge Mann zeigt sich begriffsstutzig. Er möchte ohne Beerbung heiraten\, um nicht als Mitgiftjäger in Verruf zu geraten. Kann das Erbe schlussendlich noch angetreten werden? \nDies erfahren Sie am \nFreitag\, 15. März 2024\, um 19.30 Uhr\, am\n \nSamstag\, 16. März 2024\, um 19.30 Uhr und \nam Sonntag\, 17. März 2024\, um 15 Uhr\,\n \nim Roten Saal unserer Schule. \nDie Klasse 8a freut sich auf viele Zuschauer:innen! Alle sind herzlich willkommen. Der Eintritt ist frei. \nIn der Pause versorgt die Parallelklasse 8b alle Besucher:innen mit kulinarischen Snacks und Getränken. \n 
URL:https://www.rudolf-steiner-schule-dortmund.de/veranstaltungen/theaterspiel-der-klasse-8a/
LOCATION:Roter Saal\, Mergelteichstraße 51\, Dortmund-Brünninghausen\, NRW\, 44225\, Deutschland
CATEGORIES:Öffentlich Veranstaltung,Theater & Schauspiel
END:VEVENT
BEGIN:VEVENT
DTSTART;TZID=Europe/Berlin:20240316T193000
DTEND;TZID=Europe/Berlin:20240316T220000
DTSTAMP:20260421T145008
CREATED:20240311T093651Z
LAST-MODIFIED:20240311T094224Z
UID:7595-1710617400-1710626400@www.rudolf-steiner-schule-dortmund.de
SUMMARY:"Das Haus in Montevideo" - Theaterspiel der Klasse 8a
DESCRIPTION:Die Klasse 8a spielt „Das Haus in Montevideo“\, eine Komödie von Curt Goetz bei der es um Moral\, Pflichterfüllung\, Disziplin und Liebe geht. \nZum Inhalt: Der konservative Familienvater Professor Traugott Hermann Nägler hat eine 13-köpfige Familie. Seine älteste Tochter Atlanta erbt ein Haus in Montevideo von der verstoßenen Schwester des Professors. Zudem bekommt ein Familienmitglied der Näglers\, eine beträchtliche Geldsumme. Dies ist mit einer Bedingung verbunden: Es muss ein weiteres uneheliches Kind in der Familie der Näglers geboren werden. \nDies ist ein Skandal für den konservativen Professor. Atlanta überredet ihn zu einer Reise nach Montevideo\, um das Erbe anzutreten und von einem Anwalt die Bedingungen des Erbes zu erfahren. Dort ist er in einem Zwiespalt\, ob Herr Nägler nun die Tugend seiner Tochter opfern solle. Atlanta hat einen hartnäckigen Verehrer\, Herbert Kraft\, welcher ihnen nach Montevideo gefolgt ist und Atlanta heiraten will. \nDieser kommt dem Professor recht gelegen und er versucht mit Metaphern die Intensivierung seiner Bemühungen bei Atlanta nahezulegen. Doch der junge Mann zeigt sich begriffsstutzig. Er möchte ohne Beerbung heiraten\, um nicht als Mitgiftjäger in Verruf zu geraten. Kann das Erbe schlussendlich noch angetreten werden? \nDies erfahren Sie am \nFreitag\, 15. März 2024\, um 19.30 Uhr\, am\n \nSamstag\, 16. März 2024\, um 19.30 Uhr und \nam Sonntag\, 17. März 2024\, um 15 Uhr\,\n \nim Roten Saal unserer Schule. \nDie Klasse 8a freut sich auf viele Zuschauer:innen! Alle sind herzlich willkommen. Der Eintritt ist frei. \nIn der Pause versorgt die Parallelklasse 8b alle Besucher:innen mit kulinarischen Snacks und Getränken. \n 
URL:https://www.rudolf-steiner-schule-dortmund.de/veranstaltungen/das-haus-in-montevideo-theaterspiel-der-klasse-8a/
LOCATION:Roter Saal\, Mergelteichstraße 51\, Dortmund-Brünninghausen\, NRW\, 44225\, Deutschland
CATEGORIES:Öffentlich Veranstaltung,Theater & Schauspiel
END:VEVENT
BEGIN:VEVENT
DTSTART;TZID=Europe/Berlin:20240317T150000
DTEND;TZID=Europe/Berlin:20240317T173000
DTSTAMP:20260421T145008
CREATED:20240311T093836Z
LAST-MODIFIED:20240311T094136Z
UID:7597-1710687600-1710696600@www.rudolf-steiner-schule-dortmund.de
SUMMARY:"Das Haus in Montevideo" - Theaterspiel der Klasse 8a
DESCRIPTION:Die Klasse 8a spielt „Das Haus in Montevideo“\, eine Komödie von Curt Goetz bei der es um Moral\, Pflichterfüllung\, Disziplin und Liebe geht. \nZum Inhalt: Der konservative Familienvater Professor Traugott Hermann Nägler hat eine 13-köpfige Familie. Seine älteste Tochter Atlanta erbt ein Haus in Montevideo von der verstoßenen Schwester des Professors. Zudem bekommt ein Familienmitglied der Näglers\, eine beträchtliche Geldsumme. Dies ist mit einer Bedingung verbunden: Es muss ein weiteres uneheliches Kind in der Familie der Näglers geboren werden. \nDies ist ein Skandal für den konservativen Professor. Atlanta überredet ihn zu einer Reise nach Montevideo\, um das Erbe anzutreten und von einem Anwalt die Bedingungen des Erbes zu erfahren. Dort ist er in einem Zwiespalt\, ob Herr Nägler nun die Tugend seiner Tochter opfern solle. Atlanta hat einen hartnäckigen Verehrer\, Herbert Kraft\, welcher ihnen nach Montevideo gefolgt ist und Atlanta heiraten will. \nDieser kommt dem Professor recht gelegen und er versucht mit Metaphern die Intensivierung seiner Bemühungen bei Atlanta nahezulegen. Doch der junge Mann zeigt sich begriffsstutzig. Er möchte ohne Beerbung heiraten\, um nicht als Mitgiftjäger in Verruf zu geraten. Kann das Erbe schlussendlich noch angetreten werden? \nDies erfahren Sie am \nFreitag\, 15. März 2024\, um 19.30 Uhr\, am\n \nSamstag\, 16. März 2024\, um 19.30 Uhr und \nam Sonntag\, 17. März 2024\, um 15 Uhr\,\n \nim Roten Saal unserer Schule. \nDie Klasse 8a freut sich auf viele Zuschauer:innen! Alle sind herzlich willkommen. Der Eintritt ist frei. \nIn der Pause versorgt die Parallelklasse 8b alle Besucher:innen mit kulinarischen Snacks und Getränken.
URL:https://www.rudolf-steiner-schule-dortmund.de/veranstaltungen/das-haus-in-montevideo-theaterspiel-der-klasse-8a-2/
LOCATION:Roter Saal\, Mergelteichstraße 51\, Dortmund-Brünninghausen\, NRW\, 44225\, Deutschland
CATEGORIES:Öffentlich Veranstaltung,Theater & Schauspiel
END:VEVENT
BEGIN:VEVENT
DTSTART;VALUE=DATE:20240325
DTEND;VALUE=DATE:20240406
DTSTAMP:20260421T145008
CREATED:20230710T153658Z
LAST-MODIFIED:20230718T133025Z
UID:6725-1711324800-1712361599@www.rudolf-steiner-schule-dortmund.de
SUMMARY:Osterferien 2024
DESCRIPTION:Frohe Ostern und schöne Ferientage!\n  \nEine Ferienbetreuung findet in der zweiten Ferienwoche statt: Dienstag\, 2. April\, bis Freitag\, 5. April 2024. \nIn der ersten Ferienwoche fahren angemeldete Kinder der 4. Klassen an die Nordsee.
URL:https://www.rudolf-steiner-schule-dortmund.de/veranstaltungen/osterferien-2024/
CATEGORIES:Ferien
END:VEVENT
END:VCALENDAR