BEGIN:VCALENDAR
VERSION:2.0
PRODID:-//Rudolf-Steiner-Schule Dortmund - ECPv6.15.15//NONSGML v1.0//EN
CALSCALE:GREGORIAN
METHOD:PUBLISH
X-ORIGINAL-URL:https://www.rudolf-steiner-schule-dortmund.de
X-WR-CALDESC:Veranstaltungen für Rudolf-Steiner-Schule Dortmund
REFRESH-INTERVAL;VALUE=DURATION:PT1H
X-Robots-Tag:noindex
X-PUBLISHED-TTL:PT1H
BEGIN:VTIMEZONE
TZID:Europe/Berlin
BEGIN:DAYLIGHT
TZOFFSETFROM:+0100
TZOFFSETTO:+0200
TZNAME:CEST
DTSTART:20230326T010000
END:DAYLIGHT
BEGIN:STANDARD
TZOFFSETFROM:+0200
TZOFFSETTO:+0100
TZNAME:CET
DTSTART:20231029T010000
END:STANDARD
BEGIN:DAYLIGHT
TZOFFSETFROM:+0100
TZOFFSETTO:+0200
TZNAME:CEST
DTSTART:20240331T010000
END:DAYLIGHT
BEGIN:STANDARD
TZOFFSETFROM:+0200
TZOFFSETTO:+0100
TZNAME:CET
DTSTART:20241027T010000
END:STANDARD
BEGIN:DAYLIGHT
TZOFFSETFROM:+0100
TZOFFSETTO:+0200
TZNAME:CEST
DTSTART:20250330T010000
END:DAYLIGHT
BEGIN:STANDARD
TZOFFSETFROM:+0200
TZOFFSETTO:+0100
TZNAME:CET
DTSTART:20251026T010000
END:STANDARD
END:VTIMEZONE
BEGIN:VEVENT
DTSTART;VALUE=DATE:20240325
DTEND;VALUE=DATE:20240406
DTSTAMP:20260421T131440
CREATED:20230710T153658Z
LAST-MODIFIED:20230718T133025Z
UID:6725-1711324800-1712361599@www.rudolf-steiner-schule-dortmund.de
SUMMARY:Osterferien 2024
DESCRIPTION:Frohe Ostern und schöne Ferientage!\n  \nEine Ferienbetreuung findet in der zweiten Ferienwoche statt: Dienstag\, 2. April\, bis Freitag\, 5. April 2024. \nIn der ersten Ferienwoche fahren angemeldete Kinder der 4. Klassen an die Nordsee.
URL:https://www.rudolf-steiner-schule-dortmund.de/veranstaltungen/osterferien-2024/
CATEGORIES:Ferien
END:VEVENT
BEGIN:VEVENT
DTSTART;TZID=Europe/Berlin:20240416T090000
DTEND;TZID=Europe/Berlin:20240416T140000
DTSTAMP:20260421T131440
CREATED:20240209T142729Z
LAST-MODIFIED:20240209T142730Z
UID:7457-1713258000-1713276000@www.rudolf-steiner-schule-dortmund.de
SUMMARY:Abiturklausur Geschichte LK
DESCRIPTION:  \nHeute findet die zentrale Abiturklausur des Geschichte Leistungskurses statt. \nViel Erfolg und Glück!
URL:https://www.rudolf-steiner-schule-dortmund.de/veranstaltungen/abiturklausur-geschichte-lk-2/
CATEGORIES:Interne Termine,Prüfungstermine
END:VEVENT
BEGIN:VEVENT
DTSTART;TZID=Europe/Berlin:20240418T090000
DTEND;TZID=Europe/Berlin:20240418T140000
DTSTAMP:20260421T131440
CREATED:20240209T142952Z
LAST-MODIFIED:20240209T142953Z
UID:7459-1713430800-1713448800@www.rudolf-steiner-schule-dortmund.de
SUMMARY:Abiturklausur Geschichte GK
DESCRIPTION:  \nDer Grundkurs Geschichte schreibt heute die zentrale Abiturklausur. \nViel Glück und Erfolg!
URL:https://www.rudolf-steiner-schule-dortmund.de/veranstaltungen/abiturklausur-geschichte-gk-2/
CATEGORIES:Interne Termine,Prüfungstermine
END:VEVENT
BEGIN:VEVENT
DTSTART;TZID=Europe/Berlin:20240419T120000
DTEND;TZID=Europe/Berlin:20240420T130000
DTSTAMP:20260421T131440
CREATED:20230710T161007Z
LAST-MODIFIED:20240322T085717Z
UID:6737-1713528000-1713618000@www.rudolf-steiner-schule-dortmund.de
SUMMARY:Präsentation der Abschlussarbeiten der 12. Klassen
DESCRIPTION:Als Höhepunkt der zwölfjährigen Waldorfschulzeit bilden die Abschlussarbeiten einen der wesentlichen Meilensteine in der Entwicklung der Jugendlichen. Hier fließen Erlerntes\, Initiativkraft\, Neugier\, Fantasie\, Talent und Eigenmotivation zusammen. \nMit der Bearbeitung einer selbstgewählten Aufgabe entwickeln die Schülerinnen und Schüler die im Laufe ihrer Schulzeit erworbenen Fähigkeiten und Fertigkeiten weiter und stellen sie in einer Abschlussarbeit dar. Einem Schlussakkord gleich verbindet diese Arbeit innerhalb eines Schuljahres Gelegenheit und Verpflichtung\, sich initiativ\, selbständig und verbindlich zu beweisen in einem längeren und durchaus aufwendigen Arbeitsprozess\, der einen theoretischen und einen praktischen Teil enthält. \nDie Gestaltung der Abschlussarbeit unterliegt einem klar definierten Regelwerk; zur Begleitung und Beratung steht ein Betreuer aus der Lehrerschaft bereit. \nDie Abschlussarbeiten der 12. Klassen sind einer von drei Bausteinen des Waldorfschulabschlusses. Ebenfalls Bestandteil des Waldorfschulabschlusses ist ein gemeinsam erarbeitetes Theaterstück inkl. Aufführung sowie der Künstlerische Abschluss (in diesem Jahr am Freitag\, 28.06.24 im Roten Saal). \nAm Freitag\, 19.04.24 präsentieren die Schüler:innen ihre Abschlussarbeiten in Blöcken im Roten Saal: \n12 Uhr – 13.30 Uhr\, 14 Uhr – 15.30 Uhr\, 16 Uhr – 17.30 Uhr und abends von 19.30 Uhr – ca. 21.30 Uhr. \nUnd am Samstag\, 20.04.24  \num 9.30 Uhr – 11 Uhr sowie von 11.30 Uhr – 13 Uhr\, ebenfalls im Roten Saal. \nDie Ausstellung der Abschlussarbeiten im Westbau-Erdgeschoss ist an beiden Tagen jeweils ab ca. 9 Uhr geöffnet. \nDer Eintritt ist frei. Zuschauer:innen sind herzlich willkommen. Zur Wahrung von Ruhe und Konzentration der Vortragenden bitten wir ausdrücklich darum\, die Blöcke stets als Ganze zu besuchen! \n  \n 
URL:https://www.rudolf-steiner-schule-dortmund.de/veranstaltungen/praesentation-der-abschlussarbeiten-der-12-klassen-4/
LOCATION:Rudolf-Steiner-Schule Dortmund\, Mergelteichstraße 51\, Dortmund-Brünninghausen\, 44225\, Deutschland
CATEGORIES:Abschlussarbeiten,Öffentlich Veranstaltung
END:VEVENT
BEGIN:VEVENT
DTSTART;TZID=Europe/Berlin:20240424T193000
DTEND;TZID=Europe/Berlin:20240424T210000
DTSTAMP:20260421T131440
CREATED:20240402T154257Z
LAST-MODIFIED:20240402T155038Z
UID:7682-1713987000-1713992400@www.rudolf-steiner-schule-dortmund.de
SUMMARY:Mitgliederversammlung 2024
DESCRIPTION:Einladung zur Mitgliederversammlung 2024\n\n  \nLiebe Schulgemeinschaft\, \nEltern\, Lehrerinnen\, Lehrer und Mitarbeitende\, \ngerne möchten wir Sie zur diesjährigen ordentlichen Mitgliederversammlung des Schulträgervereins Rudolf-Steiner-Schule Dortmund e. V. einladen\, und zwar am \nMittwoch\, 24. April 2024\, um 19.30 Uhr im Forum Westbau. \n  \nVorgesehene Tagesordnung: \n1. Eröffnung und Bestätigung der Tagesordnung \n2. Bestellung der Versammlungsleitung und Protokollführung \n3. Verabschiedung des Protokolls der ordentlichen Mitgliederversammlung vom 19. April 2023 \n4. Bericht des Vorstandes \n5. Haushalt 2023 und Haushaltsplan 2024 \n6. Bericht der Rechnungsprüfer \n7. Entlastung des Vorstandes \n8. Wahl/Wiederwahl eines Rechnungsprüfers \n9. Wahl/Wiederwahl des Vorstandes \n10. Bericht aus dem Förderverein \n11. Verschiedenes \n  \nAnträge zur Tagesordnung müssen laut Satzung bis zum 14. April 2024 beim Vorstand schriftlich vorliegen. Diese werden eine Woche vor der Mitgliederversammlung im Verwaltungsbereich der Schule ausgehängt. \nAuf Wunsch wird der Jahresabschluss 2023 und das Protokoll der Mitgliederversammlung 2023 gerne digital per E-Mail zugestellt. Bitte fordern Sie dies bei unserer Geschäftsführung unter geschaeftsfuehrung(at)rss-do.de an. \nWir freuen uns auf Ihre Anwesenheit! \nMit herzlichen Grüßen \nIhr Vorstand des Rudolf-Steiner-Schule Dortmund e. V.\nUte Baumeister | Andrea Küpper | Inga Meyer-Marcotty | Stefanie Podgornik | Antje Salzmann | Astrid Skroblin | Michael Treier \nEinladung MV 2023 in 2024
URL:https://www.rudolf-steiner-schule-dortmund.de/veranstaltungen/mitgliederversammlung-2024/
LOCATION:Forum\, Mergelteichstraße 51\, Dortmund-Brünninghausen\, 44225\, Deutschland
CATEGORIES:Interne Termine
END:VEVENT
BEGIN:VEVENT
DTSTART;TZID=Europe/Berlin:20240425T090000
DTEND;TZID=Europe/Berlin:20240425T140000
DTSTAMP:20260421T131440
CREATED:20240209T143437Z
LAST-MODIFIED:20240209T143437Z
UID:7461-1714035600-1714053600@www.rudolf-steiner-schule-dortmund.de
SUMMARY:Abiturklausur Deutsch GK und LK
DESCRIPTION:  \nHeute finden die zentralen Abiturklausuren in Deutsch statt. \nDie Abiturient:innen bitten um Ruhe vor allen Dingen im Westbau! \nViel Erfolg und Glück!
URL:https://www.rudolf-steiner-schule-dortmund.de/veranstaltungen/abiturklausur-deutsch-gk-und-lk/
CATEGORIES:Interne Termine,Prüfungstermine
END:VEVENT
END:VCALENDAR