BEGIN:VCALENDAR
VERSION:2.0
PRODID:-//Rudolf-Steiner-Schule Dortmund - ECPv6.15.15//NONSGML v1.0//EN
CALSCALE:GREGORIAN
METHOD:PUBLISH
X-ORIGINAL-URL:https://www.rudolf-steiner-schule-dortmund.de
X-WR-CALDESC:Veranstaltungen für Rudolf-Steiner-Schule Dortmund
REFRESH-INTERVAL;VALUE=DURATION:PT1H
X-Robots-Tag:noindex
X-PUBLISHED-TTL:PT1H
BEGIN:VTIMEZONE
TZID:Europe/Berlin
BEGIN:DAYLIGHT
TZOFFSETFROM:+0100
TZOFFSETTO:+0200
TZNAME:CEST
DTSTART:20230326T010000
END:DAYLIGHT
BEGIN:STANDARD
TZOFFSETFROM:+0200
TZOFFSETTO:+0100
TZNAME:CET
DTSTART:20231029T010000
END:STANDARD
BEGIN:DAYLIGHT
TZOFFSETFROM:+0100
TZOFFSETTO:+0200
TZNAME:CEST
DTSTART:20240331T010000
END:DAYLIGHT
BEGIN:STANDARD
TZOFFSETFROM:+0200
TZOFFSETTO:+0100
TZNAME:CET
DTSTART:20241027T010000
END:STANDARD
BEGIN:DAYLIGHT
TZOFFSETFROM:+0100
TZOFFSETTO:+0200
TZNAME:CEST
DTSTART:20250330T010000
END:DAYLIGHT
BEGIN:STANDARD
TZOFFSETFROM:+0200
TZOFFSETTO:+0100
TZNAME:CET
DTSTART:20251026T010000
END:STANDARD
END:VTIMEZONE
BEGIN:VEVENT
DTSTART;VALUE=DATE:20240708
DTEND;VALUE=DATE:20240821
DTSTAMP:20260423T125729
CREATED:20230710T154016Z
LAST-MODIFIED:20240618T152958Z
UID:6727-1720396800-1724198399@www.rudolf-steiner-schule-dortmund.de
SUMMARY:Sommerferien 2024
DESCRIPTION:  \nWir wünschen erholsame\, sonnige Ferien! Und freuen uns auf ein gesundes Wiedersehen Ende August! \nBitte beachten Sie: Unser Schulsekretariat ist in den Ferien vom 8. Juli bis 9. August 2024 nicht besetzt. Am Montag\, 12. August 2024\, ist Frau Mohr wieder für Ihre Anliegen da: Tel.: 0231 – 47 64 80 – 0\, schulsekretariat(at)rss-do.de \nDie Schatzinsel-Mitarbeiter:innen machen vom 8. Juli bis 26. Juli 2024 Ferien. Die Ferienbetreuung in unserer OGS „Schatzinsel“ findet von Montag\, 29. Juli 2024 bis Freitag\, 16. August 2024 statt. \nBitte beachten Sie\, dass die „Schatzinsel“ am Montag\, 19. August 2024\, und Dienstag\, 20. August 2024 aufgrund der Kollegiumstage geschlossen ist. \nDas Schuljahr 2024/ 2025 startet am Mittwoch\, 21. August 2024.
URL:https://www.rudolf-steiner-schule-dortmund.de/veranstaltungen/sommerferien-2024/
CATEGORIES:Ferien
END:VEVENT
BEGIN:VEVENT
DTSTART;VALUE=DATE:20240821
DTEND;VALUE=DATE:20240822
DTSTAMP:20260423T125729
CREATED:20240209T145018Z
LAST-MODIFIED:20240209T145018Z
UID:7473-1724198400-1724284799@www.rudolf-steiner-schule-dortmund.de
SUMMARY:Erster Schultag Schuljahr 2024/ 2025
DESCRIPTION:  \nHeute ist der erste Schultag des Schuljahres 2024/ 2025. Recht herzlich möchten wir die neuen Mitglieder unserer Schulgemeinschaft begrüßen. \nUnd herzlich willkommen zurück aus den Sommerferien für alle anderen!
URL:https://www.rudolf-steiner-schule-dortmund.de/veranstaltungen/erster-schultag-schuljahr-2024-2025/
END:VEVENT
BEGIN:VEVENT
DTSTART;TZID=Europe/Berlin:20240823T083000
DTEND;TZID=Europe/Berlin:20240823T120000
DTSTAMP:20260423T125729
CREATED:20240709T074702Z
LAST-MODIFIED:20240709T074814Z
UID:7986-1724401800-1724414400@www.rudolf-steiner-schule-dortmund.de
SUMMARY:Einschulungsfeier
DESCRIPTION:Liebe 1. Klassen\, herzlich willkommen!\n  \n \n  \nWir freuen uns\, heute die neuen Mitglieder unserer Schulgemeinschaft zu begrüßen: die Schüler:innen der ersten Klassen und ihre Familien! \nUm 8.30 Uhr werden die Schüler:innen der Klasse 1a durch das Blumentor in unserem Roten Saal schreiten und liebevoll durch ihre Klassenlehrerin begrüßt. Im Anschluss um 10.30 Uhr wird die neue Klasse 1b empfangen. \nWir wünschen Euch und Ihnen einen wunderbaren ersten Schultag! \nMit dieser schönen Einschulungsfeier sind wir vollzählig und nun kann das neue Schuljahr starten. Allen ein gutes Gelingen!
URL:https://www.rudolf-steiner-schule-dortmund.de/veranstaltungen/einschulungsfeier-2/
LOCATION:Roter Saal\, Mergelteichstraße 51\, Dortmund-Brünninghausen\, NRW\, 44225\, Deutschland
CATEGORIES:Interne Termine
END:VEVENT
BEGIN:VEVENT
DTSTART;VALUE=DATE:20240826
DTEND;VALUE=DATE:20240831
DTSTAMP:20260423T125729
CREATED:20240709T133844Z
LAST-MODIFIED:20240709T133844Z
UID:8076-1724630400-1725062399@www.rudolf-steiner-schule-dortmund.de
SUMMARY:Projektwoche "Demokratie und Vielfalt" und "Nachhaltigkeit"
DESCRIPTION:  \nIn der ersten vollen Schulwoche des neuen Schuljahres findet eine Projektwoche statt: \n\nfür die Klassen 1-6 zum Thema „Nachhaltigkeit“ und\nfür die Klassen 7-13 zum Thema „Demokratie und Vielfalt“.\n\nWir freuen uns auf viele spannende Projekte und Impulsvorträge.
URL:https://www.rudolf-steiner-schule-dortmund.de/veranstaltungen/projektwoche-demokratie-und-vielfalt-und-nachhaltigkeit/
LOCATION:Rudolf-Steiner-Schule Dortmund\, Mergelteichstraße 51\, Dortmund-Brünninghausen\, 44225\, Deutschland
CATEGORIES:Interne Termine
END:VEVENT
BEGIN:VEVENT
DTSTART;TZID=Europe/Berlin:20240831T120000
DTEND;TZID=Europe/Berlin:20240831T180000
DTSTAMP:20260423T125729
CREATED:20240304T154650Z
LAST-MODIFIED:20240805T151815Z
UID:7536-1725105600-1725127200@www.rudolf-steiner-schule-dortmund.de
SUMMARY:Fest der Begegnung des PSZD
DESCRIPTION:  \nHerzlich willkommen zum Fest der Begegnung der Vereine und Institutionen des Pädagogisch-Sozialen-Zentrum Dortmund (PSZD) für Jung und Alt! \nEs erwartet Sie ein buntes Programm an künstlerischen Vorführungen\, Mitmachaktionen und eine Vielfalt an Speisen und Getränken auf dem „Festplatz“ zwischen unserer Schule und den Seniorenwohneinrichtungen. \nFür Besucher:innen steht der Parkplatz des Zoos direkt vor der Tür zur Verfügung. \nProgramm: \n  Sie sehen gerade einen Platzhalterinhalt von Standard. Um auf den eigentlichen Inhalt zuzugreifen\, klicken Sie auf den Button unten. Bitte beachten Sie\, dass dabei Daten an Drittanbieter weitergegeben werden.   Inhalt entsperren Erforderlichen Service akzeptieren und Inhalte entsperren  Weitere Informationen 			\n				\n					\n						\n							\n							Wird geladen …\n						\n					\n					\n						\n							\n							Es dauert zu lange?\n						\n						\n							\n								 Dokument neu laden							\n							|\n							\n								 In einem neuen Tab öffnen							\n					\n				\n			\n		Herunterladen [192.21 KB]
URL:https://www.rudolf-steiner-schule-dortmund.de/veranstaltungen/fest-der-begegnung-des-pszd/
CATEGORIES:Öffentlich Veranstaltung
END:VEVENT
END:VCALENDAR