BEGIN:VCALENDAR
VERSION:2.0
PRODID:-//Rudolf-Steiner-Schule Dortmund - ECPv6.15.15//NONSGML v1.0//EN
CALSCALE:GREGORIAN
METHOD:PUBLISH
X-ORIGINAL-URL:https://www.rudolf-steiner-schule-dortmund.de
X-WR-CALDESC:Veranstaltungen für Rudolf-Steiner-Schule Dortmund
REFRESH-INTERVAL;VALUE=DURATION:PT1H
X-Robots-Tag:noindex
X-PUBLISHED-TTL:PT1H
BEGIN:VTIMEZONE
TZID:Europe/Berlin
BEGIN:DAYLIGHT
TZOFFSETFROM:+0100
TZOFFSETTO:+0200
TZNAME:CEST
DTSTART:20230326T010000
END:DAYLIGHT
BEGIN:STANDARD
TZOFFSETFROM:+0200
TZOFFSETTO:+0100
TZNAME:CET
DTSTART:20231029T010000
END:STANDARD
BEGIN:DAYLIGHT
TZOFFSETFROM:+0100
TZOFFSETTO:+0200
TZNAME:CEST
DTSTART:20240331T010000
END:DAYLIGHT
BEGIN:STANDARD
TZOFFSETFROM:+0200
TZOFFSETTO:+0100
TZNAME:CET
DTSTART:20241027T010000
END:STANDARD
BEGIN:DAYLIGHT
TZOFFSETFROM:+0100
TZOFFSETTO:+0200
TZNAME:CEST
DTSTART:20250330T010000
END:DAYLIGHT
BEGIN:STANDARD
TZOFFSETFROM:+0200
TZOFFSETTO:+0100
TZNAME:CET
DTSTART:20251026T010000
END:STANDARD
END:VTIMEZONE
BEGIN:VEVENT
DTSTART;TZID=Europe/Berlin:20240921T090000
DTEND;TZID=Europe/Berlin:20240921T123000
DTSTAMP:20260423T144050
CREATED:20240410T150505Z
LAST-MODIFIED:20240920T075351Z
UID:7705-1726909200-1726921800@www.rudolf-steiner-schule-dortmund.de
SUMMARY:Tag der offenen Tür
DESCRIPTION:  \nHerzlich willkommen an der Rudolf-Steiner-Schule Dortmund!\n\nWir öffnen unsere Türen und freuen uns auf Ihren Besuch!\nVon 9:00 Uhr bis 12:30 Uhr sind unsere Türen für Besucher:innen geöffnet.\nSie haben an diesem Tag die Gelegenheit\, unsere Schule näher kennenzulernen\, einen Blick in die Waldorfpädagogik zu bekommen\, sich über unser Bildungsangebot zu informieren\, einen Eindruck von unserem Schulleben zu erhalten sowie Antworten auf mögliche Fragen zu finden. Verschaffen Sie sich einen Eindruck\, sprechen Sie mit Lehrer:innen\, Eltern und Schüler:innen. Bitte haben Sie Verständnis\, dass nicht alle Unterrichtsräume geöffnet sein können. \nIm Forum Westbau stehen Ihnen Lehrer:innen\, Mitarbeiter:innen der Nachmittagsbetreuung\, Eltern und Schüler:innen mit Informationsständen des Aufnahmekreises\, der OGS\, des Fördervereins\, Elternrats sowie der Schülervertretung für Fragen und Gespräche zur Verfügung. Zudem sorgt die Klasse 12b im Foyer des Westbaus für Ihr leibliches Wohl. \nWir freuen uns auf Ihren Besuch und einen informativen\, angenehmen Tag der offenen Tür! \nBitte parken Sie auf dem Parkplatz des Zoos\, wenn Sie uns besuchen. \nSollten Sie vorab weitergehende Informationen wünschen\, stehen Ihnen unser Sekretariat (kontakt(at)rss-do.de) und unser Aufnahmesekretariat (aufnahmekreis(at)rss-do.de) gerne zur Verfügung; während der Öffnungszeiten auch telefonisch unter 0231 – 47 64 80 – 0. \nHier geht es zum Programm: Programm Tag der offenen Tür 2024 \nHier können Sie sich den Lageplan herunterladen: Gebäudepläne 2024
URL:https://www.rudolf-steiner-schule-dortmund.de/veranstaltungen/tag-der-offenen-tuer-3/
LOCATION:Rudolf-Steiner-Schule Dortmund\, Mergelteichstraße 51\, Dortmund-Brünninghausen\, 44225\, Deutschland
CATEGORIES:Öffentlich Veranstaltung,Tag der offenen Türen
END:VEVENT
BEGIN:VEVENT
DTSTART;TZID=Europe/Berlin:20240927T193000
DTEND;TZID=Europe/Berlin:20240927T220000
DTSTAMP:20260423T144050
CREATED:20240709T081025Z
LAST-MODIFIED:20240913T152753Z
UID:7993-1727465400-1727474400@www.rudolf-steiner-schule-dortmund.de
SUMMARY:Theaterspiel der Klasse 12a "Die Physiker"
DESCRIPTION:  \nDie Klasse 12a lädt herzlich zu ihrem Theaterstück „Die Physiker“ von Friedrich Dürrenmatt ein. \nIn einer Heilanstalt treffen drei Physiker aufeinander\, die sich in einer Welt voller Geheimnisse und Intrigen bewegen. Jeder von ihnen hat seine eigene Geschichte und seine eigenen Beweggründe\, die ihn an diesen Ort geführt haben. Doch was passiert\, wenn das Streben nach Wissen auf die Frage nach der Verantwortung trifft? \nSeien Sie dabei\, wenn wir die komplexen Themen von Wissenschaft\, Ethik und menschlicher Natur auf die Bühne bringen. Lassen Sie sich von den Dialogen und der Handlung fesseln! \n  \nIn dieser berühmten Theatergroteske über die Wissenschaft und ihre Verantwortung ist nichts\, wie es scheint\, so dass man sich früher oder später fragt: Wer ist hier eigentlich verrückt? \nDie Aufführungen finden statt am \nFreitag\, 27. September 2024 und  \nSamstag\, 28. September 2024\, jeweils um 19.30 Uhr  \nim Roten Saal im Westbau. \nDer Eintritt ist frei. Die Schüler:innen freuen sich am Ende der Vorstellung über eine Hutspende für ihre Klassenkasse.
URL:https://www.rudolf-steiner-schule-dortmund.de/veranstaltungen/theaterspiel-der-klasse-12a-4/
LOCATION:Roter Saal\, Mergelteichstraße 51\, Dortmund-Brünninghausen\, NRW\, 44225\, Deutschland
CATEGORIES:Öffentlich Veranstaltung,Theater & Schauspiel
END:VEVENT
BEGIN:VEVENT
DTSTART;TZID=Europe/Berlin:20240928T193000
DTEND;TZID=Europe/Berlin:20240928T220000
DTSTAMP:20260423T144050
CREATED:20240913T152919Z
LAST-MODIFIED:20240913T152919Z
UID:8227-1727551800-1727560800@www.rudolf-steiner-schule-dortmund.de
SUMMARY:Theaterspiel der Klasse 12a "Die Physiker"
DESCRIPTION:Die Klasse 12a lädt herzlich zu ihrem Theaterstück „Die Physiker“ von Friedrich Dürrenmatt ein. \nIn einer Heilanstalt treffen drei Physiker aufeinander\, die sich in einer Welt voller Geheimnisse und Intrigen bewegen. Jeder von ihnen hat seine eigene Geschichte und seine eigenen Beweggründe\, die ihn an diesen Ort geführt haben. Doch was passiert\, wenn das Streben nach Wissen auf die Frage nach der Verantwortung trifft? \nSeien Sie dabei\, wenn wir die komplexen Themen von Wissenschaft\, Ethik und menschlicher Natur auf die Bühne bringen. Lassen Sie sich von den Dialogen und der Handlung fesseln! \n  \nIn dieser berühmten Theatergroteske über die Wissenschaft und ihre Verantwortung ist nichts\, wie es scheint\, so dass man sich früher oder später fragt: Wer ist hier eigentlich verrückt? \nDie Aufführungen finden statt am \nFreitag\, 27. September 2024 und  \nSamstag\, 28. September 2024\, jeweils um 19.30 Uhr  \nim Roten Saal im Westbau. \nDer Eintritt ist frei. Die Schüler:innen freuen sich am Ende der Vorstellung über eine Hutspende für ihre Klassenkasse.
URL:https://www.rudolf-steiner-schule-dortmund.de/veranstaltungen/theaterspiel-der-klasse-12a-die-physiker/
LOCATION:Roter Saal\, Mergelteichstraße 51\, Dortmund-Brünninghausen\, NRW\, 44225\, Deutschland
CATEGORIES:Öffentlich Veranstaltung,Theater & Schauspiel
END:VEVENT
BEGIN:VEVENT
DTSTART;VALUE=DATE:20240930
DTEND;VALUE=DATE:20241001
DTSTAMP:20260423T144050
CREATED:20240521T084147Z
LAST-MODIFIED:20240521T084147Z
UID:7799-1727654400-1727740799@www.rudolf-steiner-schule-dortmund.de
SUMMARY:Anmeldeschluss für die Aufnahme in eine 1. Klasse im SJ 2025/ 26
DESCRIPTION:Bitte beachten Sie den Anmeldeschluss für die Aufnahme in eine 1. Klasse im Schuljahr 2025/ 2026 (auch für Geschwisterkinder): \nMontag\, 30. September 2024. \nSollten Sie Interesse an unserer Schule haben und sich für einen Platz in einer unserer künftigen ersten Klassen interessieren\, kontaktieren Sie bitte unser Aufnahmesekretariat per Mail an aufnahmekreis(at)rss-do.de oder telefonisch unter 0231 47 64 80 11. \nInformationen zur Anmeldung sowie das Anmeldeformular finden Sie auch hier auf der Internetseite unter dem Reiter „Anmeldung“.
URL:https://www.rudolf-steiner-schule-dortmund.de/veranstaltungen/anmeldeschluss-fuer-die-aufnahme-in-eine-1-klasse-im-sj-2025-26/
END:VEVENT
END:VCALENDAR